BEGIN:VCALENDAR
VERSION:2.0
PRODID:-//Aktionsbündnis Fairer Handel Berlin //NONSGML Events //EN
CALSCALE:GREGORIAN
X-WR-CALNAME:Aktionsbündnis Fairer Handel Berlin
BEGIN:VEVENT
CREATED;TZID={Europe/Berlin}:20230823T141851Z
UID:12224
DTSTART;TZID={Europe/Berlin}:20230909T1000
DTEND;TZID={Europe/Berlin}:20230909T133000
DTSTAMP;TZID={Europe/Berlin}:20260420T093234Z
LOCATION:TBA
DESCRIPTION:
SUMMARY:Vernetzungsworkshop „Wir wollen fair – aber wie?“
ORGANIZER:Aktionsbündnis Fairer Handel Berlin
URL;VALUE=URI:https://www.fairerhandel.berlin/events/vernetzungsworkshop-wir-wollen-fair-aber-wie/
TRANSP:OPAQUE
BEGIN:VALARM
ACTION:DISPLAY
TRIGGER;VALUE=DATE-TIME:
DESCRIPTION:Erinnerung für die Vernetzungsworkshop „Wir wollen fair – aber wie?“
END:VALARM
END:VEVENT
END:VCALENDAR
