BEGIN:VCALENDAR
VERSION:2.0
PRODID:-//Aktionsbündnis Fairer Handel Berlin //NONSGML Events //EN
CALSCALE:GREGORIAN
X-WR-CALNAME:Aktionsbündnis Fairer Handel Berlin
BEGIN:VEVENT
CREATED;TZID={Europe/Berlin}:20230927T095259Z
UID:14143
DTSTART;TZID={Europe/Berlin}:20231106T170000
DTEND;TZID={Europe/Berlin}:20231106T180000
DTSTAMP;TZID={Europe/Berlin}:20260423T083019Z
LOCATION:TBA
DESCRIPTION:
SUMMARY:Berlin creates fair fashion | Workshop 3
ORGANIZER:Aktionsbündnis Fairer Handel Berlin
URL;VALUE=URI:https://www.fairerhandel.berlin/events/berlin-creates-fair-fashion-workshop-part-3/
TRANSP:OPAQUE
BEGIN:VALARM
ACTION:DISPLAY
TRIGGER;VALUE=DATE-TIME:
DESCRIPTION:Erinnerung für die Berlin creates fair fashion | Workshop 3
END:VALARM
END:VEVENT
END:VCALENDAR
