BEGIN:VCALENDAR
VERSION:2.0
PRODID:-//Aktionsbündnis Fairer Handel Berlin //NONSGML Events //EN
CALSCALE:GREGORIAN
X-WR-CALNAME:Aktionsbündnis Fairer Handel Berlin
BEGIN:VEVENT
CREATED;TZID={Europe/Berlin}:20231101T095731Z
UID:14561
DTSTART;TZID={Europe/Berlin}:20231114T170000
DTEND;TZID={Europe/Berlin}:20231114T184500
DTSTAMP;TZID={Europe/Berlin}:20260424T190358Z
LOCATION:TBA
DESCRIPTION:
SUMMARY:6. Runder Tisch Nachhaltiger Sport in Berlin
ORGANIZER:Aktionsbündnis Fairer Handel Berlin
URL;VALUE=URI:https://www.fairerhandel.berlin/events/6-runder-tisch-nachhaltiger-sport-in-berlin/
TRANSP:OPAQUE
BEGIN:VALARM
ACTION:DISPLAY
TRIGGER;VALUE=DATE-TIME:
DESCRIPTION:Erinnerung für die 6. Runder Tisch Nachhaltiger Sport in Berlin
END:VALARM
END:VEVENT
END:VCALENDAR
