BEGIN:VCALENDAR
VERSION:2.0
PRODID:-//Aktionsbündnis Fairer Handel Berlin //NONSGML Events //EN
CALSCALE:GREGORIAN
X-WR-CALNAME:Aktionsbündnis Fairer Handel Berlin
BEGIN:VEVENT
CREATED;TZID={Europe/Berlin}:20240606T081229Z
UID:17083
DTSTART;TZID={Europe/Berlin}:20240710T150000
DTEND;TZID={Europe/Berlin}:20240710T160000
DTSTAMP;TZID={Europe/Berlin}:20260419T142933Z
LOCATION:<div class="facetwp_related_news_excerpt">
<div class="facetwp_related_news_excerpt">
<div class="facetwp_related_news_excerpt">

FUTURE HUB auf der Fan Zone am Reichstag

</div>
</div>
</div>
DESCRIPTION:
SUMMARY:Virtual Reality „Eine Welt für Alle?!“ mit EPIZ e.V.
ORGANIZER:Aktionsbündnis Fairer Handel Berlin
URL;VALUE=URI:https://www.fairerhandel.berlin/events/virtual-reality-eine-welt-fuer-alle/
TRANSP:OPAQUE
BEGIN:VALARM
ACTION:DISPLAY
TRIGGER;VALUE=DATE-TIME:
DESCRIPTION:Erinnerung für die Virtual Reality &#8222\;Eine Welt für Alle?!&#8220\; mit EPIZ e.V.
END:VALARM
END:VEVENT
END:VCALENDAR
