BEGIN:VCALENDAR
VERSION:2.0
PRODID:-//Aktionsbündnis Fairer Handel Berlin //NONSGML Events //EN
CALSCALE:GREGORIAN
X-WR-CALNAME:Aktionsbündnis Fairer Handel Berlin
BEGIN:VEVENT
CREATED;TZID={Europe/Berlin}:20240625T055416Z
UID:17331
DTSTART;TZID={Europe/Berlin}:20240704T1700200000
DTEND;TZID={Europe/Berlin}:20240704T180020
DTSTAMP;TZID={Europe/Berlin}:20260419T143344Z
LOCATION:Haus der Fußballkulturen, Cantianstraße 25, 10437 Berlin
DESCRIPTION:
SUMMARY:#einBall. Fairer Fußball jetzt – Film und Workshop von Engagement Global
ORGANIZER:Aktionsbündnis Fairer Handel Berlin
URL;VALUE=URI:https://www.fairerhandel.berlin/events/einball-fairer-fussball-jetzt-film-und-workshop-von-engagement-global-2/
TRANSP:OPAQUE
BEGIN:VALARM
ACTION:DISPLAY
TRIGGER;VALUE=DATE-TIME:
DESCRIPTION:Erinnerung für die #einBall. Fairer Fußball jetzt &#8211\; Film und Workshop von Engagement Global
END:VALARM
END:VEVENT
END:VCALENDAR
