BEGIN:VCALENDAR
VERSION:2.0
PRODID:-//Aktionsbündnis Fairer Handel Berlin //NONSGML Events //EN
CALSCALE:GREGORIAN
X-WR-CALNAME:Aktionsbündnis Fairer Handel Berlin
BEGIN:VEVENT
CREATED;TZID={Europe/Berlin}:20240829T134854Z
UID:17821
DTSTART;TZID={Europe/Berlin}:20241012T110000
DTEND;TZID={Europe/Berlin}:20241012T140000
DTSTAMP;TZID={Europe/Berlin}:20260419T142838Z
LOCATION:Weltladen Pankow eG
Breite Str. 39b, 13187 Berlin
DESCRIPTION:
SUMMARY:Faire Modenschau im Weltladen Pankow
ORGANIZER:Aktionsbündnis Fairer Handel Berlin
URL;VALUE=URI:https://www.fairerhandel.berlin/events/faire-modenschau-im-weltladen-pankow-2/
TRANSP:OPAQUE
BEGIN:VALARM
ACTION:DISPLAY
TRIGGER;VALUE=DATE-TIME:
DESCRIPTION:Erinnerung für die Faire Modenschau im Weltladen Pankow
END:VALARM
END:VEVENT
END:VCALENDAR
