BEGIN:VCALENDAR
VERSION:2.0
PRODID:-//Aktionsbündnis Fairer Handel Berlin //NONSGML Events //EN
CALSCALE:GREGORIAN
X-WR-CALNAME:Aktionsbündnis Fairer Handel Berlin
BEGIN:VEVENT
CREATED;TZID={Europe/Berlin}:20241125T131629Z
UID:18057
DTSTART;TZID={Europe/Berlin}:20241211T170000
DTEND;TZID={Europe/Berlin}:20241211T183000
DTSTAMP;TZID={Europe/Berlin}:20260421T162420Z
LOCATION:Digital via Zoom (Link wird automatisch zugesandt nach Eveeno-Anmeldung)
DESCRIPTION:
SUMMARY:Runder Tisch Nachhaltigkeit im Sport – 5. Ausgabe 2024
ORGANIZER:Aktionsbündnis Fairer Handel Berlin
URL;VALUE=URI:https://www.fairerhandel.berlin/events/runder-tisch-nachhaltigkeit-im-sport-5-ausgabe-2024/
TRANSP:OPAQUE
BEGIN:VALARM
ACTION:DISPLAY
TRIGGER;VALUE=DATE-TIME:
DESCRIPTION:Erinnerung für die Runder Tisch Nachhaltigkeit im Sport &#8211\; 5. Ausgabe 2024
END:VALARM
END:VEVENT
END:VCALENDAR
