BEGIN:VCALENDAR
VERSION:2.0
PRODID:-//Aktionsbündnis Fairer Handel Berlin //NONSGML Events //EN
CALSCALE:GREGORIAN
X-WR-CALNAME:Aktionsbündnis Fairer Handel Berlin
BEGIN:VEVENT
CREATED;TZID={Europe/Berlin}:20250205T073642Z
UID:18556
DTSTART;TZID={Europe/Berlin}:20250227T150000
DTEND;TZID={Europe/Berlin}:20250227T170000
DTSTAMP;TZID={Europe/Berlin}:20260419T125757Z
LOCATION:TBA
DESCRIPTION:
SUMMARY:Fachaustausch zur Überwindung kolonialer Kontinuitäten in der fairen Wirtschaftspraxis
ORGANIZER:Aktionsbündnis Fairer Handel Berlin
URL;VALUE=URI:https://www.fairerhandel.berlin/events/fachaustausch-zur-ueberwindung-kolonialer-kontinuitaeten-in-der-fairen-wirtschaftspraxis/
TRANSP:OPAQUE
BEGIN:VALARM
ACTION:DISPLAY
TRIGGER;VALUE=DATE-TIME:
DESCRIPTION:Erinnerung für die Fachaustausch zur Überwindung kolonialer Kontinuitäten in der fairen Wirtschaftspraxis
END:VALARM
END:VEVENT
END:VCALENDAR
