BEGIN:VCALENDAR
VERSION:2.0
PRODID:-//Aktionsbündnis Fairer Handel Berlin //NONSGML Events //EN
CALSCALE:GREGORIAN
X-WR-CALNAME:Aktionsbündnis Fairer Handel Berlin
BEGIN:VEVENT
CREATED;TZID={Europe/Berlin}:20250617T113528Z
UID:19781
DTSTART;TZID={Europe/Berlin}:20250716T170000
DTEND;TZID={Europe/Berlin}:20250716T190000
DTSTAMP;TZID={Europe/Berlin}:20260423T153030Z
LOCATION:Digital via Zoom (Link wird automatisch zugesandt nach Eveeno-Anmeldung)
DESCRIPTION:
SUMMARY:Runder Tisch Nachhaltigkeit im Sport – 4. Ausgabe 2025
ORGANIZER:Aktionsbündnis Fairer Handel Berlin
URL;VALUE=URI:https://www.fairerhandel.berlin/events/runder-tisch-nachhaltigkeit-im-sport-4-ausgabe-2025/
TRANSP:OPAQUE
BEGIN:VALARM
ACTION:DISPLAY
TRIGGER;VALUE=DATE-TIME:
DESCRIPTION:Erinnerung für die Runder Tisch Nachhaltigkeit im Sport &#8211\; 4. Ausgabe 2025
END:VALARM
END:VEVENT
END:VCALENDAR
