BEGIN:VCALENDAR
VERSION:2.0
PRODID:-//Aktionsbündnis Fairer Handel Berlin //NONSGML Events //EN
CALSCALE:GREGORIAN
X-WR-CALNAME:Aktionsbündnis Fairer Handel Berlin
BEGIN:VEVENT
CREATED;TZID={Europe/Berlin}:20260114T091842Z
UID:21131
DTSTART;TZID={Europe/Berlin}:20260703T1600
DTEND;TZID={Europe/Berlin}:20260703T220000
DTSTAMP;TZID={Europe/Berlin}:20260419T153701Z
LOCATION:Berlin Global Village
Am Sudhaus 2, 12053 Berlin
DESCRIPTION:
SUMMARY:GLOBALE (ehemals BGVestival) – Das Sommerfest des Berlin Global Village
ORGANIZER:Aktionsbündnis Fairer Handel Berlin
URL;VALUE=URI:https://www.fairerhandel.berlin/events/bgvestival-das-sommerfest-des-berlin-global-village/
TRANSP:OPAQUE
BEGIN:VALARM
ACTION:DISPLAY
TRIGGER;VALUE=DATE-TIME:
DESCRIPTION:Erinnerung für die GLOBALE (ehemals BGVestival) – Das Sommerfest des Berlin Global Village
END:VALARM
END:VEVENT
END:VCALENDAR
