BEGIN:VCALENDAR
VERSION:2.0
PRODID:-//Aktionsbündnis Fairer Handel Berlin //NONSGML Events //EN
CALSCALE:GREGORIAN
X-WR-CALNAME:Aktionsbündnis Fairer Handel Berlin
BEGIN:VEVENT
CREATED;TZID={Europe/Berlin}:20260422T090147Z
UID:22289
DTSTART;TZID={Europe/Berlin}:20260505T0900160000
DTEND;TZID={Europe/Berlin}:20260505T100016
DTSTAMP;TZID={Europe/Berlin}:20260425T152810Z
LOCATION:Verwaltungsakademie Berlin,
Turmstraße 86 10559 Berlin
DESCRIPTION:
SUMMARY:LEZ+Kompetenzstelle: Einladung zur Grundlagenschulung „Faire Beschaffung“
ORGANIZER:Aktionsbündnis Fairer Handel Berlin
URL;VALUE=URI:https://www.fairerhandel.berlin/events/grundlagenschulung-faire-beschaffung/
TRANSP:OPAQUE
BEGIN:VALARM
ACTION:DISPLAY
TRIGGER;VALUE=DATE-TIME:
DESCRIPTION:Erinnerung für die LEZ+Kompetenzstelle: Einladung zur Grundlagenschulung „Faire Beschaffung&#8220\;
END:VALARM
END:VEVENT
END:VCALENDAR
